BEGIN:VCALENDAR
VERSION:2.0
PRODID:-//Kreisimkerverein Arnsberg e.V. - ECPv6.15.20//NONSGML v1.0//EN
CALSCALE:GREGORIAN
METHOD:PUBLISH
X-ORIGINAL-URL:https://www.kiv-arnsberg.de
X-WR-CALDESC:Veranstaltungen für Kreisimkerverein Arnsberg e.V.
REFRESH-INTERVAL;VALUE=DURATION:PT1H
X-Robots-Tag:noindex
X-PUBLISHED-TTL:PT1H
BEGIN:VTIMEZONE
TZID:Europe/Berlin
BEGIN:DAYLIGHT
TZOFFSETFROM:+0100
TZOFFSETTO:+0200
TZNAME:CEST
DTSTART:20240331T010000
END:DAYLIGHT
BEGIN:STANDARD
TZOFFSETFROM:+0200
TZOFFSETTO:+0100
TZNAME:CET
DTSTART:20241027T010000
END:STANDARD
BEGIN:DAYLIGHT
TZOFFSETFROM:+0100
TZOFFSETTO:+0200
TZNAME:CEST
DTSTART:20250330T010000
END:DAYLIGHT
BEGIN:STANDARD
TZOFFSETFROM:+0200
TZOFFSETTO:+0100
TZNAME:CET
DTSTART:20251026T010000
END:STANDARD
BEGIN:DAYLIGHT
TZOFFSETFROM:+0100
TZOFFSETTO:+0200
TZNAME:CEST
DTSTART:20260329T010000
END:DAYLIGHT
BEGIN:STANDARD
TZOFFSETFROM:+0200
TZOFFSETTO:+0100
TZNAME:CET
DTSTART:20261025T010000
END:STANDARD
END:VTIMEZONE
BEGIN:VEVENT
DTSTART;TZID=Europe/Berlin:20250327T180000
DTEND;TZID=Europe/Berlin:20250327T200000
DTSTAMP:20260421T060833
CREATED:20250118T161449Z
LAST-MODIFIED:20250118T161902Z
UID:1834-1743098400-1743105600@www.kiv-arnsberg.de
SUMMARY:Vertreterversammlung Kreisimkerverein Arnsberg
DESCRIPTION:Vertreterversammlung \nEinladung mit Tagesornung wird per e-mail verschickt \nHeidi`s Art in Arnsberg Oeventrop
URL:https://www.kiv-arnsberg.de/jahresprogramm/apisticustag-2/
END:VEVENT
BEGIN:VEVENT
DTSTART;TZID=Europe/Berlin:20250329T080000
DTEND;TZID=Europe/Berlin:20250329T160000
DTSTAMP:20260421T060833
CREATED:20250119T082254Z
LAST-MODIFIED:20250119T082254Z
UID:1843-1743235200-1743264000@www.kiv-arnsberg.de
SUMMARY:Sachkunde Honig
DESCRIPTION:Sachkunde Honig
URL:https://www.kiv-arnsberg.de/jahresprogramm/sachkunde-honig/
LOCATION:Landessportbund Hachen Am Holtenhahn 1 59846 Sundern\, Am Holtenhahahn 1\, 59846 Sundern\, NRW
END:VEVENT
BEGIN:VEVENT
DTSTART;TZID=Europe/Berlin:20250330T090000
DTEND;TZID=Europe/Berlin:20250330T150000
DTSTAMP:20260421T060833
CREATED:20250119T082434Z
LAST-MODIFIED:20250119T082434Z
UID:1846-1743325200-1743346800@www.kiv-arnsberg.de
SUMMARY:Sachkunde Honig
DESCRIPTION:Sachkunde Honig \n2. Schulungstag
URL:https://www.kiv-arnsberg.de/jahresprogramm/sachkunde-honig-2/
LOCATION:Landessportbund Hachen Am Holtenhahn 1 59846 Sundern\, Am Holtenhahahn 1\, 59846 Sundern\, NRW
END:VEVENT
END:VCALENDAR