BEGIN:VCALENDAR
VERSION:2.0
PRODID:-//Kreisimkerverein Arnsberg e.V. - ECPv6.15.20//NONSGML v1.0//EN
CALSCALE:GREGORIAN
METHOD:PUBLISH
X-ORIGINAL-URL:https://www.kiv-arnsberg.de
X-WR-CALDESC:Veranstaltungen für Kreisimkerverein Arnsberg e.V.
REFRESH-INTERVAL;VALUE=DURATION:PT1H
X-Robots-Tag:noindex
X-PUBLISHED-TTL:PT1H
BEGIN:VTIMEZONE
TZID:Europe/Berlin
BEGIN:DAYLIGHT
TZOFFSETFROM:+0100
TZOFFSETTO:+0200
TZNAME:CEST
DTSTART:20240331T010000
END:DAYLIGHT
BEGIN:STANDARD
TZOFFSETFROM:+0200
TZOFFSETTO:+0100
TZNAME:CET
DTSTART:20241027T010000
END:STANDARD
BEGIN:DAYLIGHT
TZOFFSETFROM:+0100
TZOFFSETTO:+0200
TZNAME:CEST
DTSTART:20250330T010000
END:DAYLIGHT
BEGIN:STANDARD
TZOFFSETFROM:+0200
TZOFFSETTO:+0100
TZNAME:CET
DTSTART:20251026T010000
END:STANDARD
BEGIN:DAYLIGHT
TZOFFSETFROM:+0100
TZOFFSETTO:+0200
TZNAME:CEST
DTSTART:20260329T010000
END:DAYLIGHT
BEGIN:STANDARD
TZOFFSETFROM:+0200
TZOFFSETTO:+0100
TZNAME:CET
DTSTART:20261025T010000
END:STANDARD
END:VTIMEZONE
BEGIN:VEVENT
DTSTART;TZID=Europe/Berlin:20250205T180000
DTEND;TZID=Europe/Berlin:20250205T200000
DTSTAMP:20260421T073941
CREATED:20250120T141616Z
LAST-MODIFIED:20250120T141626Z
UID:1861-1738778400-1738785600@www.kiv-arnsberg.de
SUMMARY:Anfängerkurs
DESCRIPTION:Anfängerkurs \nSchnupperabend Information und  Fragen
URL:https://www.kiv-arnsberg.de/jahresprogramm/anfaengerkurs/
LOCATION:VHS Sundern Franz-Tigges-Platz 59846 Sundern
END:VEVENT
BEGIN:VEVENT
DTSTART;TZID=Europe/Berlin:20250213T180000
DTEND;TZID=Europe/Berlin:20250213T200000
DTSTAMP:20260421T073941
CREATED:20250131T153622Z
LAST-MODIFIED:20250131T153622Z
UID:1866-1739469600-1739476800@www.kiv-arnsberg.de
SUMMARY:Asiatische Hornisse
DESCRIPTION:Asiatische Honisse \nWas bedeutet das für die Imkerei? \nReferent Christian Monier \nAnmeldungen bis 08.02.25 unter: meyer-beate_u._juergen@t-online.de
URL:https://www.kiv-arnsberg.de/jahresprogramm/asiatische-hornisse/
LOCATION:VHS Sundern Franz-Tigges-Platz 59846 Sundern
END:VEVENT
BEGIN:VEVENT
DTSTART;TZID=Europe/Berlin:20250222T090000
DTEND;TZID=Europe/Berlin:20250222T170000
DTSTAMP:20260421T073941
CREATED:20250118T161324Z
LAST-MODIFIED:20250118T161324Z
UID:1832-1740214800-1740243600@www.kiv-arnsberg.de
SUMMARY:Apisticustag
DESCRIPTION:Apisticustag Münster \nHalle Münsterland
URL:https://www.kiv-arnsberg.de/jahresprogramm/apisticustag/
END:VEVENT
BEGIN:VEVENT
DTSTART;TZID=Europe/Berlin:20250223T090000
DTEND;TZID=Europe/Berlin:20250223T170000
DTSTAMP:20260421T073941
CREATED:20250119T082041Z
LAST-MODIFIED:20250119T082041Z
UID:1838-1740301200-1740330000@www.kiv-arnsberg.de
SUMMARY:Apis
DESCRIPTION:Apisticustag 2025 \n2. Tag
URL:https://www.kiv-arnsberg.de/jahresprogramm/apis/
LOCATION:Halle Münsterland
END:VEVENT
END:VCALENDAR