BEGIN:VCALENDAR
VERSION:2.0
PRODID:-//Kreisimkerverein Arnsberg e.V. - ECPv6.15.20//NONSGML v1.0//EN
CALSCALE:GREGORIAN
METHOD:PUBLISH
X-WR-CALNAME:Kreisimkerverein Arnsberg e.V.
X-ORIGINAL-URL:https://www.kiv-arnsberg.de
X-WR-CALDESC:Veranstaltungen für Kreisimkerverein Arnsberg e.V.
REFRESH-INTERVAL;VALUE=DURATION:PT1H
X-Robots-Tag:noindex
X-PUBLISHED-TTL:PT1H
BEGIN:VTIMEZONE
TZID:Europe/Berlin
BEGIN:DAYLIGHT
TZOFFSETFROM:+0100
TZOFFSETTO:+0200
TZNAME:CEST
DTSTART:20230326T010000
END:DAYLIGHT
BEGIN:STANDARD
TZOFFSETFROM:+0200
TZOFFSETTO:+0100
TZNAME:CET
DTSTART:20231029T010000
END:STANDARD
BEGIN:DAYLIGHT
TZOFFSETFROM:+0100
TZOFFSETTO:+0200
TZNAME:CEST
DTSTART:20240331T010000
END:DAYLIGHT
BEGIN:STANDARD
TZOFFSETFROM:+0200
TZOFFSETTO:+0100
TZNAME:CET
DTSTART:20241027T010000
END:STANDARD
BEGIN:DAYLIGHT
TZOFFSETFROM:+0100
TZOFFSETTO:+0200
TZNAME:CEST
DTSTART:20250330T010000
END:DAYLIGHT
BEGIN:STANDARD
TZOFFSETFROM:+0200
TZOFFSETTO:+0100
TZNAME:CET
DTSTART:20251026T010000
END:STANDARD
END:VTIMEZONE
BEGIN:VEVENT
DTSTART;TZID=Europe/Berlin:20240816T090000
DTEND;TZID=Europe/Berlin:20240816T170000
DTSTAMP:20260421T201714
CREATED:20240117T132337Z
LAST-MODIFIED:20240118T082605Z
UID:1353-1723798800-1723827600@www.kiv-arnsberg.de
SUMMARY:Honigbewertung 2024
DESCRIPTION:Honigbewertung des Landesverband Westfälisch-Lippischer Imker
URL:https://www.kiv-arnsberg.de/jahresprogramm/honigbewertung-2024-3/
LOCATION:Haus Düsse 2\, 59505 Bad Sassendorf
END:VEVENT
BEGIN:VEVENT
DTSTART;TZID=Europe/Berlin:20240817T090000
DTEND;TZID=Europe/Berlin:20240817T170000
DTSTAMP:20260421T201714
CREATED:20240117T132205Z
LAST-MODIFIED:20240828T110904Z
UID:1351-1723885200-1723914000@www.kiv-arnsberg.de
SUMMARY:Honigbewertung 2024
DESCRIPTION:Honigbewertung des Landesverbandes Westfälisch-Lippischer Imker \nImkerverein Arnsberg            0 Teilnehmer \nImkerverein Bienenfreunde  9 Teinehmer mit 17 Honiglosen \nImkerverein Langscheid        6 Teilnehmer mit 14 Honiglosen \nImkerverein Sundern              5 Teilnehmer mit 7 Honiglosen \nImkerverein Oeventrop            0 Teilnehmer
URL:https://www.kiv-arnsberg.de/jahresprogramm/honigbewertung-2024-2/
LOCATION:Haus Düsse 2\, 59505 Bad Sassendorf
END:VEVENT
END:VCALENDAR