BEGIN:VCALENDAR
VERSION:2.0
PRODID:-//Kreisimkerverein Arnsberg e.V. - ECPv6.15.20//NONSGML v1.0//EN
CALSCALE:GREGORIAN
METHOD:PUBLISH
X-ORIGINAL-URL:https://www.kiv-arnsberg.de
X-WR-CALDESC:Veranstaltungen für Kreisimkerverein Arnsberg e.V.
REFRESH-INTERVAL;VALUE=DURATION:PT1H
X-Robots-Tag:noindex
X-PUBLISHED-TTL:PT1H
BEGIN:VTIMEZONE
TZID:Europe/Berlin
BEGIN:DAYLIGHT
TZOFFSETFROM:+0100
TZOFFSETTO:+0200
TZNAME:CEST
DTSTART:20230326T010000
END:DAYLIGHT
BEGIN:STANDARD
TZOFFSETFROM:+0200
TZOFFSETTO:+0100
TZNAME:CET
DTSTART:20231029T010000
END:STANDARD
BEGIN:DAYLIGHT
TZOFFSETFROM:+0100
TZOFFSETTO:+0200
TZNAME:CEST
DTSTART:20240331T010000
END:DAYLIGHT
BEGIN:STANDARD
TZOFFSETFROM:+0200
TZOFFSETTO:+0100
TZNAME:CET
DTSTART:20241027T010000
END:STANDARD
BEGIN:DAYLIGHT
TZOFFSETFROM:+0100
TZOFFSETTO:+0200
TZNAME:CEST
DTSTART:20250330T010000
END:DAYLIGHT
BEGIN:STANDARD
TZOFFSETFROM:+0200
TZOFFSETTO:+0100
TZNAME:CET
DTSTART:20251026T010000
END:STANDARD
END:VTIMEZONE
BEGIN:VEVENT
DTSTART;TZID=Europe/Berlin:20240526T090000
DTEND;TZID=Europe/Berlin:20240526T120000
DTSTAMP:20260422T004149
CREATED:20231213T071327Z
LAST-MODIFIED:20240425T065848Z
UID:1206-1716714000-1716724800@www.kiv-arnsberg.de
SUMMARY:Königinnen Zucht
DESCRIPTION:Königinnenzucht \nTheoretische Schulung zur Königinnezucht \nReferent Sven Peterseim \nVerbindliche Anmeldung ist erforderlich ! \nAnmeldung unter 01520 2891894
URL:https://www.kiv-arnsberg.de/jahresprogramm/koeniginnen-zucht/
END:VEVENT
BEGIN:VEVENT
DTSTART;TZID=Europe/Berlin:20240526T130000
DTEND;TZID=Europe/Berlin:20240526T160000
DTSTAMP:20260422T004149
CREATED:20231213T071846Z
LAST-MODIFIED:20231213T071846Z
UID:1208-1716728400-1716739200@www.kiv-arnsberg.de
SUMMARY:Umlarven und Zuchtstoffabgabe
DESCRIPTION:Umlarven prakticher Teil und Abgabe von Zuchtstoff \nFortsetzung der Schulung vom Vormittag. \nEinzelheiten: was mit zu bringen ist wird rechtzeitig bekanntgegben. \n  \nReferent : Sven Peterseim
URL:https://www.kiv-arnsberg.de/jahresprogramm/umlarven-und-zuchtstoffabgabe/
END:VEVENT
END:VCALENDAR