BEGIN:VCALENDAR
VERSION:2.0
PRODID:-//Kreisimkerverein Arnsberg e.V. - ECPv6.15.20//NONSGML v1.0//EN
CALSCALE:GREGORIAN
METHOD:PUBLISH
X-WR-CALNAME:Kreisimkerverein Arnsberg e.V.
X-ORIGINAL-URL:https://www.kiv-arnsberg.de
X-WR-CALDESC:Veranstaltungen für Kreisimkerverein Arnsberg e.V.
REFRESH-INTERVAL;VALUE=DURATION:PT1H
X-Robots-Tag:noindex
X-PUBLISHED-TTL:PT1H
BEGIN:VTIMEZONE
TZID:Europe/Berlin
BEGIN:DAYLIGHT
TZOFFSETFROM:+0100
TZOFFSETTO:+0200
TZNAME:CEST
DTSTART:20230326T010000
END:DAYLIGHT
BEGIN:STANDARD
TZOFFSETFROM:+0200
TZOFFSETTO:+0100
TZNAME:CET
DTSTART:20231029T010000
END:STANDARD
BEGIN:DAYLIGHT
TZOFFSETFROM:+0100
TZOFFSETTO:+0200
TZNAME:CEST
DTSTART:20240331T010000
END:DAYLIGHT
BEGIN:STANDARD
TZOFFSETFROM:+0200
TZOFFSETTO:+0100
TZNAME:CET
DTSTART:20241027T010000
END:STANDARD
BEGIN:DAYLIGHT
TZOFFSETFROM:+0100
TZOFFSETTO:+0200
TZNAME:CEST
DTSTART:20250330T010000
END:DAYLIGHT
BEGIN:STANDARD
TZOFFSETFROM:+0200
TZOFFSETTO:+0100
TZNAME:CET
DTSTART:20251026T010000
END:STANDARD
END:VTIMEZONE
BEGIN:VEVENT
DTSTART;TZID=Europe/Berlin:20240214T180000
DTEND;TZID=Europe/Berlin:20240214T200000
DTSTAMP:20260422T051102
CREATED:20231214T153744Z
LAST-MODIFIED:20231214T153744Z
UID:1213-1707933600-1707940800@www.kiv-arnsberg.de
SUMMARY:Anfängerkurs
DESCRIPTION:Schnupperkurs . ist die Imkerei etwas für mich ?
URL:https://www.kiv-arnsberg.de/jahresprogramm/anfaengerkurs-3/
LOCATION:VHS Sundern Franz-Tigges-Platz 59846 Sundern
END:VEVENT
BEGIN:VEVENT
DTSTART;TZID=Europe/Berlin:20240215T180000
DTEND;TZID=Europe/Berlin:20240215T200000
DTSTAMP:20260422T051102
CREATED:20231212T154240Z
LAST-MODIFIED:20240110T075344Z
UID:1185-1708020000-1708027200@www.kiv-arnsberg.de
SUMMARY:Delegiertenversammlung des Kreisimkervereins
DESCRIPTION:Kreisdelegiertenversammlung \nEinladung und Tagesordnung wird per e\,mail verschickt.
URL:https://www.kiv-arnsberg.de/jahresprogramm/delegiertenversammling-des-kreisimkervereins/
LOCATION:VHS Sundern Franz-Tigges-Platz 59846 Sundern
END:VEVENT
BEGIN:VEVENT
DTSTART;TZID=Europe/Berlin:20240220T080000
DTEND;TZID=Europe/Berlin:20240220T170000
DTSTAMP:20260422T051102
CREATED:20240220T072351Z
LAST-MODIFIED:20240220T072351Z
UID:1391-1708416000-1708448400@www.kiv-arnsberg.de
SUMMARY:Reinigungsaktion von Beuten
DESCRIPTION:Reinigungsaktion von Bienenbeuten.Anmeldungen bis 01.03. möglichst je Imkerverein gesammelt.
URL:https://www.kiv-arnsberg.de/jahresprogramm/reinigungsaktion-von-beuten/
LOCATION:Feuerwehgerätehaus Ringstr 59846 Sundern-Langscheid
END:VEVENT
BEGIN:VEVENT
DTSTART;TZID=Europe/Berlin:20240224T100000
DTEND;TZID=Europe/Berlin:20240224T170000
DTSTAMP:20260422T051102
CREATED:20231214T155221Z
LAST-MODIFIED:20240115T153859Z
UID:1219-1708768800-1708794000@www.kiv-arnsberg.de
SUMMARY:Apisticustag
DESCRIPTION:Apisticustag : Messe – Verkostung – Fortbildung \nProgramm ist  auf der Homepage des Bienenistitut zu ersehen
URL:https://www.kiv-arnsberg.de/jahresprogramm/31-apisticustag/
END:VEVENT
BEGIN:VEVENT
DTSTART;TZID=Europe/Berlin:20240225T090000
DTEND;TZID=Europe/Berlin:20240225T160000
DTSTAMP:20260422T051102
CREATED:20240104T085222Z
LAST-MODIFIED:20240104T085222Z
UID:1240-1708851600-1708876800@www.kiv-arnsberg.de
SUMMARY:Apisticus Tag
DESCRIPTION:Apisticus Tag Halle Münsterland
URL:https://www.kiv-arnsberg.de/jahresprogramm/apisticus-tag-2/
END:VEVENT
END:VCALENDAR