BEGIN:VCALENDAR
VERSION:2.0
PRODID:-//Kreisimkerverein Arnsberg e.V. - ECPv6.15.20//NONSGML v1.0//EN
CALSCALE:GREGORIAN
METHOD:PUBLISH
X-ORIGINAL-URL:https://www.kiv-arnsberg.de
X-WR-CALDESC:Veranstaltungen für Kreisimkerverein Arnsberg e.V.
REFRESH-INTERVAL;VALUE=DURATION:PT1H
X-Robots-Tag:noindex
X-PUBLISHED-TTL:PT1H
BEGIN:VTIMEZONE
TZID:Europe/Berlin
BEGIN:DAYLIGHT
TZOFFSETFROM:+0100
TZOFFSETTO:+0200
TZNAME:CEST
DTSTART:20230326T010000
END:DAYLIGHT
BEGIN:STANDARD
TZOFFSETFROM:+0200
TZOFFSETTO:+0100
TZNAME:CET
DTSTART:20231029T010000
END:STANDARD
BEGIN:DAYLIGHT
TZOFFSETFROM:+0100
TZOFFSETTO:+0200
TZNAME:CEST
DTSTART:20240331T010000
END:DAYLIGHT
BEGIN:STANDARD
TZOFFSETFROM:+0200
TZOFFSETTO:+0100
TZNAME:CET
DTSTART:20241027T010000
END:STANDARD
BEGIN:DAYLIGHT
TZOFFSETFROM:+0100
TZOFFSETTO:+0200
TZNAME:CEST
DTSTART:20250330T010000
END:DAYLIGHT
BEGIN:STANDARD
TZOFFSETFROM:+0200
TZOFFSETTO:+0100
TZNAME:CET
DTSTART:20251026T010000
END:STANDARD
END:VTIMEZONE
BEGIN:VEVENT
DTSTART;TZID=Europe/Berlin:20240224T100000
DTEND;TZID=Europe/Berlin:20240224T170000
DTSTAMP:20260422T063926
CREATED:20231214T155221Z
LAST-MODIFIED:20240115T153859Z
UID:1219-1708768800-1708794000@www.kiv-arnsberg.de
SUMMARY:Apisticustag
DESCRIPTION:Apisticustag : Messe – Verkostung – Fortbildung \nProgramm ist  auf der Homepage des Bienenistitut zu ersehen
URL:https://www.kiv-arnsberg.de/jahresprogramm/31-apisticustag/
END:VEVENT
END:VCALENDAR